BEGIN:VCALENDAR
VERSION:2.0
PRODID:-//Aum Spiritual Center - ECPv6.10.1.1//NONSGML v1.0//EN
CALSCALE:GREGORIAN
METHOD:PUBLISH
X-WR-CALNAME:Aum Spiritual Center
X-ORIGINAL-URL:https://aumspiritualcenter.com
X-WR-CALDESC:Events for Aum Spiritual Center
REFRESH-INTERVAL;VALUE=DURATION:PT1H
X-Robots-Tag:noindex
X-PUBLISHED-TTL:PT1H
BEGIN:VTIMEZONE
TZID:UTC
BEGIN:STANDARD
TZOFFSETFROM:+0000
TZOFFSETTO:+0000
TZNAME:UTC
DTSTART:20180101T000000
END:STANDARD
END:VTIMEZONE
BEGIN:VEVENT
DTSTART;TZID=UTC:20181210T170000
DTEND;TZID=UTC:20181210T190000
DTSTAMP:20260419T190541
CREATED:20181120T131653Z
LAST-MODIFIED:20190304T211405Z
UID:131-1544461200-1544468400@aumspiritualcenter.com
SUMMARY:Seminar on "Healthy Diet for Healthy Lifestyle"
DESCRIPTION:By Deepak Pareck.\nOpen to all.\nNo Selling of any kind.\nRSVP is must as food is going to be prepared by them. \nView Flyer
URL:/event/seminar-on-healthy-diet-for-healthy-lifestyle/
END:VEVENT
BEGIN:VEVENT
DTSTART;TZID=UTC:20181106T080000
DTEND;TZID=UTC:20181106T170000
DTSTAMP:20260419T190541
CREATED:20190304T213256Z
LAST-MODIFIED:20190307T143323Z
UID:199-1541491200-1541523600@aumspiritualcenter.com
SUMMARY:Diwali Pooja Ceremony
DESCRIPTION:
URL:/event/diwali-pooja-ceremony/
END:VEVENT
END:VCALENDAR